Package: gpls Version: 1.82.0 Command: /home/biocbuild/bbs-3.22-bioc/R/bin/R CMD check --install=check:gpls.install-out.txt --library=/home/biocbuild/bbs-3.22-bioc/R/site-library --timings gpls_1.82.0.tar.gz StartedAt: 2025-11-12 00:16:04 -0500 (Wed, 12 Nov 2025) EndedAt: 2025-11-12 00:16:27 -0500 (Wed, 12 Nov 2025) EllapsedTime: 23.0 seconds RetCode: 0 Status: WARNINGS CheckDir: gpls.Rcheck Warnings: 1