Package: gpls Version: 1.80.0 Command: /home/biocbuild/bbs-3.21-bioc/R/bin/R CMD INSTALL gpls StartedAt: 2025-09-28 15:17:20 -0400 (Sun, 28 Sep 2025) EndedAt: 2025-09-28 15:17:22 -0400 (Sun, 28 Sep 2025) EllapsedTime: 2.2 seconds RetCode: 0 Status: OK