Package: gpls Version: 1.80.0 Command: /Library/Frameworks/R.framework/Resources/bin/R CMD INSTALL gpls StartedAt: 2025-10-02 15:04:51 -0400 (Thu, 02 Oct 2025) EndedAt: 2025-10-02 15:04:58 -0400 (Thu, 02 Oct 2025) EllapsedTime: 7.1 seconds RetCode: 0 Status: OK