Package: gpls Version: 1.80.0 Command: /Library/Frameworks/R.framework/Resources/bin/R CMD build --keep-empty-dirs --no-resave-data gpls StartedAt: 2025-10-02 19:28:48 -0400 (Thu, 02 Oct 2025) EndedAt: 2025-10-02 19:29:13 -0400 (Thu, 02 Oct 2025) EllapsedTime: 25.0 seconds RetCode: 0 Status: OK PackageFile: gpls_1.80.0.tar.gz PackageFileSize: 232.7 KiB