Package: goseq Version: 1.62.0 Command: /home/biocbuild/R/R/bin/R CMD INSTALL goseq StartedAt: 2025-11-13 21:54:17 -0000 (Thu, 13 Nov 2025) EndedAt: 2025-11-13 21:55:05 -0000 (Thu, 13 Nov 2025) EllapsedTime: 47.6 seconds RetCode: 0 Status: OK