Package: goseq Version: 1.62.0 Command: /home/biocbuild/R/R/bin/R CMD build --keep-empty-dirs --no-resave-data goseq StartedAt: 2025-11-14 02:17:27 -0000 (Fri, 14 Nov 2025) EndedAt: 2025-11-14 02:22:10 -0000 (Fri, 14 Nov 2025) EllapsedTime: 283.1 seconds RetCode: 0 Status: OK PackageFile: goseq_1.62.0.tar.gz PackageFileSize: 1.826 MiB