Package: goseq Version: 1.62.0 Command: /home/biocbuild/bbs-3.22-bioc/R/bin/R CMD INSTALL goseq StartedAt: 2025-11-11 15:45:56 -0500 (Tue, 11 Nov 2025) EndedAt: 2025-11-11 15:46:34 -0500 (Tue, 11 Nov 2025) EllapsedTime: 37.5 seconds RetCode: 0 Status: OK