Package: goseq Version: 1.60.0 Command: /home/biocbuild/bbs-3.21-bioc/R/bin/R CMD INSTALL goseq StartedAt: 2025-10-12 15:44:34 -0400 (Sun, 12 Oct 2025) EndedAt: 2025-10-12 15:45:11 -0400 (Sun, 12 Oct 2025) EllapsedTime: 37.5 seconds RetCode: 0 Status: OK