Package: goseq Version: 1.60.0 Command: /home/biocbuild/bbs-3.21-bioc/R/bin/R CMD build --keep-empty-dirs --no-resave-data goseq StartedAt: 2025-10-12 17:48:11 -0400 (Sun, 12 Oct 2025) EndedAt: 2025-10-12 17:51:29 -0400 (Sun, 12 Oct 2025) EllapsedTime: 198.2 seconds RetCode: 0 Status: OK PackageFile: goseq_1.60.0.tar.gz PackageFileSize: 1.831 MiB