Package: goseq Version: 1.60.0 Command: /Library/Frameworks/R.framework/Resources/bin/R CMD INSTALL goseq StartedAt: 2025-10-13 17:39:40 -0400 (Mon, 13 Oct 2025) EndedAt: 2025-10-13 17:40:22 -0400 (Mon, 13 Oct 2025) EllapsedTime: 42.3 seconds RetCode: 0 Status: OK