Package: goseq Version: 1.60.0 Command: /Library/Frameworks/R.framework/Resources/bin/R CMD build --keep-empty-dirs --no-resave-data goseq StartedAt: 2025-10-14 01:32:30 -0400 (Tue, 14 Oct 2025) EndedAt: 2025-10-14 01:37:20 -0400 (Tue, 14 Oct 2025) EllapsedTime: 289.4 seconds RetCode: 0 Status: OK PackageFile: goseq_1.60.0.tar.gz PackageFileSize: 1.832 MiB