Package: goseq Version: 1.60.0 Command: rm -rf goseq.buildbin-libdir && mkdir goseq.buildbin-libdir && /Users/biocbuild/BBS/utils/build-universal.sh goseq_1.60.0.tar.gz /Library/Frameworks/R.framework/Resources/bin/R goseq.buildbin-libdir StartedAt: 2025-10-15 18:45:27 -0400 (Wed, 15 Oct 2025) EndedAt: 2025-10-15 18:46:15 -0400 (Wed, 15 Oct 2025) EllapsedTime: 48.0 seconds RetCode: 0 Status: OK PackageFile: goseq_1.60.0.tgz PackageFileSize: 1.879 MiB