Package: goatea Version: 1.0.0 Command: /home/biocbuild/R/R/bin/R CMD INSTALL goatea StartedAt: 2025-11-17 21:58:59 -0000 (Mon, 17 Nov 2025) EndedAt: 2025-11-17 21:59:38 -0000 (Mon, 17 Nov 2025) EllapsedTime: 39.0 seconds RetCode: 0 Status: OK