Package: goatea Version: 1.0.0 Command: /home/biocbuild/R/R/bin/R CMD build --keep-empty-dirs --no-resave-data goatea StartedAt: 2025-11-18 02:04:16 -0000 (Tue, 18 Nov 2025) EndedAt: 2025-11-18 02:07:33 -0000 (Tue, 18 Nov 2025) EllapsedTime: 197.1 seconds RetCode: 0 Status: OK PackageFile: goatea_1.0.0.tar.gz PackageFileSize: 1.413 MiB