Package: goatea Version: 1.0.0 Command: /home/biocbuild/bbs-3.22-bioc/R/bin/R CMD build --keep-empty-dirs --no-resave-data --md5 goatea StartedAt: 2025-11-11 18:01:31 -0500 (Tue, 11 Nov 2025) EndedAt: 2025-11-11 18:03:33 -0500 (Tue, 11 Nov 2025) EllapsedTime: 122.1 seconds RetCode: 1 Status: ERROR PackageFile: None PackageFileSize: NA