Package: goatea Version: 1.0.0 Command: /Library/Frameworks/R.framework/Resources/bin/R CMD INSTALL goatea StartedAt: 2025-11-03 15:45:26 -0500 (Mon, 03 Nov 2025) EndedAt: 2025-11-03 15:46:06 -0500 (Mon, 03 Nov 2025) EllapsedTime: 39.9 seconds RetCode: 0 Status: OK