Package: goatea Version: 1.0.0 Maintainer: Maurits Unkel MaintainerEmail: mauritsunkel at gmail.com git_url: https://git.bioconductor.org/packages/goatea git_branch: RELEASE_3_22 git_last_commit: c7a7b1e git_last_commit_date: 2025-10-29 11:37:58 -0500 (Wed, 29 Oct 2025)