Package: goTools Version: 1.84.0 Command: /home/biocbuild/R/R/bin/R CMD INSTALL goTools StartedAt: 2025-11-10 21:55:53 -0000 (Mon, 10 Nov 2025) EndedAt: 2025-11-10 21:56:10 -0000 (Mon, 10 Nov 2025) EllapsedTime: 16.8 seconds RetCode: 0 Status: OK