Package: goTools Version: 1.84.0 Command: /home/biocbuild/R/R/bin/R CMD build --keep-empty-dirs --no-resave-data goTools StartedAt: 2025-11-11 02:13:56 -0000 (Tue, 11 Nov 2025) EndedAt: 2025-11-11 02:14:20 -0000 (Tue, 11 Nov 2025) EllapsedTime: 24.0 seconds RetCode: 0 Status: OK PackageFile: goTools_1.84.0.tar.gz PackageFileSize: 235 KiB