Package: goTools Version: 1.82.0 Command: rm -rf goTools.buildbin-libdir && mkdir goTools.buildbin-libdir && E:\biocbuild\bbs-3.21-bioc\R\bin\R.exe CMD INSTALL --build --library=goTools.buildbin-libdir goTools_1.82.0.tar.gz StartedAt: 2025-08-15 09:25:41 -0400 (Fri, 15 Aug 2025) EndedAt: 2025-08-15 09:26:04 -0400 (Fri, 15 Aug 2025) EllapsedTime: 23.2 seconds RetCode: 0 Status: OK PackageFile: goTools_1.82.0.zip PackageFileSize: 126 KiB