Package: goTools Version: 1.84.0 Command: /home/biocbuild/bbs-3.22-bioc/R/bin/R CMD INSTALL goTools StartedAt: 2025-11-13 15:39:23 -0500 (Thu, 13 Nov 2025) EndedAt: 2025-11-13 15:39:37 -0500 (Thu, 13 Nov 2025) EllapsedTime: 14.3 seconds RetCode: 0 Status: OK