Package: goTools Version: 1.84.0 Command: /home/biocbuild/bbs-3.22-bioc/R/bin/R CMD build --keep-empty-dirs --no-resave-data --md5 goTools StartedAt: 2025-11-13 18:01:10 -0500 (Thu, 13 Nov 2025) EndedAt: 2025-11-13 18:01:29 -0500 (Thu, 13 Nov 2025) EllapsedTime: 19.0 seconds RetCode: 0 Status: OK PackageFile: goTools_1.84.0.tar.gz PackageFileSize: 242.8 KiB