Package: goTools Version: 1.82.0 Command: /Library/Frameworks/R.framework/Resources/bin/R CMD INSTALL goTools StartedAt: 2025-10-06 16:23:15 -0400 (Mon, 06 Oct 2025) EndedAt: 2025-10-06 16:23:42 -0400 (Mon, 06 Oct 2025) EllapsedTime: 27.8 seconds RetCode: 0 Status: OK