Package: goTools Version: 1.82.0 Command: /Library/Frameworks/R.framework/Resources/bin/R CMD build --keep-empty-dirs --no-resave-data goTools StartedAt: 2025-10-06 19:27:08 -0400 (Mon, 06 Oct 2025) EndedAt: 2025-10-06 19:27:55 -0400 (Mon, 06 Oct 2025) EllapsedTime: 46.9 seconds RetCode: 0 Status: OK PackageFile: goTools_1.82.0.tar.gz PackageFileSize: 241.5 KiB