Package: goTools Version: 1.82.0 Command: /home/biocbuild/R/R/bin/R CMD INSTALL goTools StartedAt: 2025-09-25 21:03:09 -0000 (Thu, 25 Sep 2025) EndedAt: 2025-09-25 21:03:26 -0000 (Thu, 25 Sep 2025) EllapsedTime: 17.5 seconds RetCode: 0 Status: OK