Package: goSorensen Version: 1.12.0 Command: /home/biocbuild/bbs-3.22-bioc/R/bin/R CMD INSTALL goSorensen StartedAt: 2025-11-11 15:53:14 -0500 (Tue, 11 Nov 2025) EndedAt: 2025-11-11 15:53:28 -0500 (Tue, 11 Nov 2025) EllapsedTime: 13.6 seconds RetCode: 0 Status: OK