Package: goSorensen Version: 1.12.0 Command: /home/biocbuild/bbs-3.22-bioc/R/bin/R CMD build --keep-empty-dirs --no-resave-data --md5 goSorensen StartedAt: 2025-11-11 18:02:41 -0500 (Tue, 11 Nov 2025) EndedAt: 2025-11-11 18:05:59 -0500 (Tue, 11 Nov 2025) EllapsedTime: 197.1 seconds RetCode: 0 Status: OK PackageFile: goSorensen_1.12.0.tar.gz PackageFileSize: 962.9 KiB