Package: goSorensen Version: 1.10.0 Command: /home/biocbuild/R/R/bin/R CMD INSTALL goSorensen StartedAt: 2025-10-13 21:10:24 -0000 (Mon, 13 Oct 2025) EndedAt: 2025-10-13 21:10:44 -0000 (Mon, 13 Oct 2025) EllapsedTime: 19.9 seconds RetCode: 0 Status: OK