Package: goProfiles Version: 1.72.0 Command: /home/biocbuild/bbs-3.22-bioc/R/bin/R CMD check --install=check:goProfiles.install-out.txt --library=/home/biocbuild/bbs-3.22-bioc/R/site-library --timings goProfiles_1.72.0.tar.gz StartedAt: 2025-11-15 00:19:33 -0500 (Sat, 15 Nov 2025) EndedAt: 2025-11-15 00:22:19 -0500 (Sat, 15 Nov 2025) EllapsedTime: 166.1 seconds RetCode: 0 Status: OK CheckDir: goProfiles.Rcheck Warnings: 0