Package: goProfiles Version: 1.72.0 Command: /Library/Frameworks/R.framework/Resources/bin/R CMD build --keep-empty-dirs --no-resave-data goProfiles StartedAt: 2025-11-03 17:13:40 -0500 (Mon, 03 Nov 2025) EndedAt: 2025-11-03 17:14:31 -0500 (Mon, 03 Nov 2025) EllapsedTime: 51.4 seconds RetCode: 0 Status: OK PackageFile: goProfiles_1.72.0.tar.gz PackageFileSize: 288.2 KiB