Package: goProfiles Version: 1.70.0 Command: /home/biocbuild/R/R/bin/R CMD INSTALL goProfiles StartedAt: 2025-10-06 21:03:05 -0000 (Mon, 06 Oct 2025) EndedAt: 2025-10-06 21:03:25 -0000 (Mon, 06 Oct 2025) EllapsedTime: 20.4 seconds RetCode: 0 Status: OK