Package: goProfiles Version: 1.70.0 Command: /home/biocbuild/R/R/bin/R CMD build --keep-empty-dirs --no-resave-data goProfiles StartedAt: 2025-10-07 01:25:58 -0000 (Tue, 07 Oct 2025) EndedAt: 2025-10-07 01:26:51 -0000 (Tue, 07 Oct 2025) EllapsedTime: 53.0 seconds RetCode: 0 Status: OK PackageFile: goProfiles_1.70.0.tar.gz PackageFileSize: 285.3 KiB