Package: gmoviz Version: 1.22.0 Command: /home/biocbuild/bbs-3.22-bioc/R/bin/R CMD build --keep-empty-dirs --no-resave-data --md5 gmoviz StartedAt: 2025-11-06 17:55:32 -0500 (Thu, 06 Nov 2025) EndedAt: 2025-11-06 17:57:12 -0500 (Thu, 06 Nov 2025) EllapsedTime: 100.1 seconds RetCode: 0 Status: OK PackageFile: gmoviz_1.22.0.tar.gz PackageFileSize: 4.274 MiB