Package: gmapR Version: 1.52.0 Command: /home/biocbuild/R/R/bin/R CMD INSTALL gmapR StartedAt: 2025-11-17 21:49:05 -0000 (Mon, 17 Nov 2025) EndedAt: 2025-11-17 21:59:57 -0000 (Mon, 17 Nov 2025) EllapsedTime: 652.6 seconds RetCode: 0 Status: OK