Package: gmapR Version: 1.52.0 Command: /home/biocbuild/bbs-3.22-bioc/R/bin/R CMD INSTALL gmapR StartedAt: 2025-11-11 15:45:32 -0500 (Tue, 11 Nov 2025) EndedAt: 2025-11-11 15:52:28 -0500 (Tue, 11 Nov 2025) EllapsedTime: 416.5 seconds RetCode: 0 Status: OK