Package: gmapR Version: 1.50.0 Command: /home/biocbuild/bbs-3.21-bioc/R/bin/R CMD INSTALL gmapR StartedAt: 2025-10-15 15:39:50 -0400 (Wed, 15 Oct 2025) EndedAt: 2025-10-15 15:46:49 -0400 (Wed, 15 Oct 2025) EllapsedTime: 418.6 seconds RetCode: 0 Status: OK