Package: gmapR Version: 1.52.0 Command: /Library/Frameworks/R.framework/Resources/bin/R CMD INSTALL gmapR StartedAt: 2025-11-03 15:42:40 -0500 (Mon, 03 Nov 2025) EndedAt: 2025-11-03 15:51:26 -0500 (Mon, 03 Nov 2025) EllapsedTime: 525.1 seconds RetCode: 0 Status: OK