Package: gmapR Version: 1.52.0 Command: /Library/Frameworks/R.framework/Resources/bin/R CMD build --keep-empty-dirs --no-resave-data gmapR StartedAt: 2025-11-02 17:16:01 -0500 (Sun, 02 Nov 2025) EndedAt: 2025-11-02 17:24:23 -0500 (Sun, 02 Nov 2025) EllapsedTime: 502.0 seconds RetCode: 1 Status: ERROR PackageFile: None PackageFileSize: NA