Package: gmapR Version: 1.50.0 Command: /home/biocbuild/R/R/bin/R CMD INSTALL gmapR StartedAt: 2025-10-02 20:55:23 -0000 (Thu, 02 Oct 2025) EndedAt: 2025-10-02 21:06:44 -0000 (Thu, 02 Oct 2025) EllapsedTime: 680.3 seconds RetCode: 0 Status: OK