Package: gmapR Version: 1.50.0 Command: /home/biocbuild/R/R/bin/R CMD build --keep-empty-dirs --no-resave-data gmapR StartedAt: 2025-10-07 01:22:19 -0000 (Tue, 07 Oct 2025) EndedAt: 2025-10-07 01:33:59 -0000 (Tue, 07 Oct 2025) EllapsedTime: 700.2 seconds RetCode: 0 Status: OK PackageFile: gmapR_1.50.0.tar.gz PackageFileSize: 26.01 MiB