Package: gmapR Version: 1.50.0 Command: /Library/Frameworks/R.framework/Resources/bin/R CMD INSTALL gmapR StartedAt: 2025-10-13 17:19:13 -0400 (Mon, 13 Oct 2025) EndedAt: 2025-10-13 17:21:11 -0400 (Mon, 13 Oct 2025) EllapsedTime: 118.6 seconds RetCode: 1 Status: ERROR