Package: gmapR Version: 1.50.0 Command: rm -rf gmapR.buildbin-libdir && mkdir gmapR.buildbin-libdir && /Users/biocbuild/BBS/utils/build-universal.sh gmapR_1.50.0.tar.gz /Library/Frameworks/R.framework/Resources/bin/R gmapR.buildbin-libdir StartedAt: 2025-06-14 15:51:39 -0400 (Sat, 14 Jun 2025) EndedAt: 2025-06-14 15:58:48 -0400 (Sat, 14 Jun 2025) EllapsedTime: 429.2 seconds RetCode: 0 Status: OK PackageFile: gmapR_1.50.0.tgz PackageFileSize: 21.85 MiB