Package: globaltest Version: 5.64.0 Command: /home/biocbuild/bbs-3.22-bioc/R/bin/R CMD INSTALL globaltest StartedAt: 2025-11-11 15:33:22 -0500 (Tue, 11 Nov 2025) EndedAt: 2025-11-11 15:33:45 -0500 (Tue, 11 Nov 2025) EllapsedTime: 22.9 seconds RetCode: 0 Status: OK