Package: globaltest Version: 5.64.0 Command: /home/biocbuild/bbs-3.22-bioc/R/bin/R CMD check --install=check:globaltest.install-out.txt --library=/home/biocbuild/bbs-3.22-bioc/R/site-library --timings globaltest_5.64.0.tar.gz StartedAt: 2025-11-15 00:17:10 -0500 (Sat, 15 Nov 2025) EndedAt: 2025-11-15 00:22:14 -0500 (Sat, 15 Nov 2025) EllapsedTime: 303.3 seconds RetCode: 0 Status: OK CheckDir: globaltest.Rcheck Warnings: 0