Package: globaltest Version: 5.64.0 Command: /Library/Frameworks/R.framework/Resources/bin/R CMD INSTALL globaltest StartedAt: 2025-11-02 15:32:41 -0500 (Sun, 02 Nov 2025) EndedAt: 2025-11-02 15:33:12 -0500 (Sun, 02 Nov 2025) EllapsedTime: 30.8 seconds RetCode: 0 Status: OK