Package: globaltest Version: 5.62.0 Command: /home/biocbuild/R/R/bin/R CMD INSTALL globaltest StartedAt: 2025-10-09 20:42:38 -0000 (Thu, 09 Oct 2025) EndedAt: 2025-10-09 20:43:09 -0000 (Thu, 09 Oct 2025) EllapsedTime: 31.4 seconds RetCode: 0 Status: OK