Package: globaltest Version: 5.62.0 Command: /home/biocbuild/R/R/bin/R CMD build --keep-empty-dirs --no-resave-data globaltest StartedAt: 2025-10-10 01:19:24 -0000 (Fri, 10 Oct 2025) EndedAt: 2025-10-10 01:20:20 -0000 (Fri, 10 Oct 2025) EllapsedTime: 56.0 seconds RetCode: 1 Status: ERROR PackageFile: None PackageFileSize: NA