Back to Multiple platform build/check report for BioC 3.22:   simplified   long
ABCDEF[G]HIJKLMNOPQRSTUVWXYZ

This page was generated on 2025-11-11 12:02 -0500 (Tue, 11 Nov 2025).

HostnameOSArch (*)R versionInstalled pkgs
nebbiolo2Linux (Ubuntu 24.04.3 LTS)x86_644.5.1 Patched (2025-08-23 r88802) -- "Great Square Root" 4902
kjohnson3macOS 13.7.7 Venturaarm644.5.1 Patched (2025-09-10 r88807) -- "Great Square Root" 4638
Click on any hostname to see more info about the system (e.g. compilers)      (*) as reported by 'uname -p', except on Windows and Mac OS X

All results for package globaltest


To the developers/maintainers of the globaltest package:
- Allow up to 24 hours (and sometimes 48 hours) for your latest push to git@git.bioconductor.org:packages/globaltest.git to reflect on this report. See Troubleshooting Build Report for more information.
- Use the following Renviron settings to reproduce errors and warnings.
- If 'R CMD check' started to fail recently on the Linux builder(s) over a missing dependency, add the missing dependency to 'Suggests:' in your DESCRIPTION file. See Renviron.bioc for more information.

raw results

Package 896/2361HostnameOS / ArchINSTALLBUILDCHECKBUILD BIN
globaltest 5.64.0  (landing page)
Jelle Goeman
Snapshot Date: 2025-11-10 13:45 -0500 (Mon, 10 Nov 2025)
git_url: https://git.bioconductor.org/packages/globaltest
git_branch: RELEASE_3_22
git_last_commit: 81b15c8
git_last_commit_date: 2025-10-29 09:55:12 -0500 (Wed, 29 Oct 2025)
nebbiolo2Linux (Ubuntu 24.04.3 LTS) / x86_64  OK    OK    OK  UNNEEDED, same version is already published
kjohnson3macOS 13.7.7 Ventura / arm64  OK    TIMEOUT  skippedskipped



Results for Bioconductor software packages that depend directly on package globaltest

QUICK STATSOS / ArchINSTALLBUILDCHECKBUILD BIN
nebbiolo2Linux (Ubuntu 24.04.3 LTS) / x86_64
005
005
0032
kjohnson3macOS 13.7.7 Ventura / arm64
005
005
0032
005
Package 1/5HostnameOS / ArchINSTALLBUILDCHECKBUILD BIN
BiSeq 1.50.0  (landing page)
Katja Hebestreit
git_last_commit: 626afbf
git_last_commit_date: 2025-10-29 10:14:44 -0500
nebbiolo2Linux (Ubuntu 24.04.3 LTS) / x86_64  OK    OK    OK  UNNEEDED, same version is already published
kjohnson3macOS 13.7.7 Ventura / arm64  OK    OK    OK    OK  UNNEEDED, same version is already published
Package 2/5HostnameOS / ArchINSTALLBUILDCHECKBUILD BIN
ChAMP 2.40.0  (landing page)
Yuan Tian
git_last_commit: fa068cf
git_last_commit_date: 2025-10-29 10:17:05 -0500
nebbiolo2Linux (Ubuntu 24.04.3 LTS) / x86_64  OK    OK    WARNINGS  UNNEEDED, same version is already published
kjohnson3macOS 13.7.7 Ventura / arm64  OK    OK    WARNINGS    OK  UNNEEDED, same version is already published
Package 3/5HostnameOS / ArchINSTALLBUILDCHECKBUILD BIN
EGSEA 1.38.0  (landing page)
Monther Alhamdoosh
git_last_commit: 1a8a161
git_last_commit_date: 2025-10-29 10:32:11 -0500
nebbiolo2Linux (Ubuntu 24.04.3 LTS) / x86_64  OK    OK    OK  UNNEEDED, same version is already published
kjohnson3macOS 13.7.7 Ventura / arm64  OK    OK    OK    OK  UNNEEDED, same version is already published
Package 4/5HostnameOS / ArchINSTALLBUILDCHECKBUILD BIN
GlobalAncova 4.28.0  (landing page)
Manuela Hummel
git_last_commit: 99efd2a
git_last_commit_date: 2025-10-29 09:57:03 -0500
nebbiolo2Linux (Ubuntu 24.04.3 LTS) / x86_64  OK    OK    WARNINGS  UNNEEDED, same version is already published
kjohnson3macOS 13.7.7 Ventura / arm64  OK    OK    WARNINGS    OK  UNNEEDED, same version is already published
Package 5/5HostnameOS / ArchINSTALLBUILDCHECKBUILD BIN
SIM 1.80.0  (landing page)
Renee X. de Menezes
git_last_commit: 14fb293
git_last_commit_date: 2025-10-29 10:00:51 -0500
nebbiolo2Linux (Ubuntu 24.04.3 LTS) / x86_64  OK    OK    WARNINGS  UNNEEDED, same version is already published
kjohnson3macOS 13.7.7 Ventura / arm64  OK    OK    WARNINGS    OK  UNNEEDED, same version is already published