Package: globalSeq Version: 1.38.0 Command: /home/biocbuild/bbs-3.22-bioc/R/bin/R CMD build --keep-empty-dirs --no-resave-data --md5 globalSeq StartedAt: 2025-11-11 17:59:53 -0500 (Tue, 11 Nov 2025) EndedAt: 2025-11-11 18:00:03 -0500 (Tue, 11 Nov 2025) EllapsedTime: 10.0 seconds RetCode: 0 Status: OK PackageFile: globalSeq_1.38.0.tar.gz PackageFileSize: 716.6 KiB