Package: globalSeq Version: 1.36.0 Command: rm -rf globalSeq.buildbin-libdir && mkdir globalSeq.buildbin-libdir && /Users/biocbuild/BBS/utils/build-universal.sh globalSeq_1.36.0.tar.gz /Library/Frameworks/R.framework/Resources/bin/R globalSeq.buildbin-libdir StartedAt: 2025-04-22 00:48:09 -0400 (Tue, 22 Apr 2025) EndedAt: 2025-04-22 00:48:17 -0400 (Tue, 22 Apr 2025) EllapsedTime: 8.2 seconds RetCode: 0 Status: OK PackageFile: globalSeq_1.36.0.tgz PackageFileSize: 710.7 KiB